Workbook

Sheet hodnota poukazky
A2: Výpočet hodnoty príspevku
B4: Miesto inštalácie zariadenia:
B5: Okres:
B6: Obec:
B8: Zariadenie
B9: Druh zariadenia:
B10: Výkon zariadenia (kW):
B12: Zvýhodnenie
B13: Domácnosť prestane využívať tuhé palivá:
B14: Nízkopríjmová domácnosť (len pre slnečné kolektory, fotovoltické panely a kotly na biomasu):
B15: Inštalácia v oblasti ORKO: | C15: =IF(ciselniky!K13=1,ciselniky!J9,ciselniky!J10) -> nie
B17: Hodnota príspevku
B18: Sadzba (EUR/kW): | C18: =ciselniky!K16 -> #N/A
B19: Maximálny podporiteľný výkon (kW): | C19: =ciselniky!K17 -> #N/A
B20: Maximálna hodnota príspevku (EUR): | C20: =ciselniky!K18 -> #N/A
B22: Keďže maximálna podpora je možná do limitovanej výšky (50 % alebo 90 %) oprávnených výdavkov, zobrazená hodnota príspevku nemusí byť vyplatená v plnom rozsahu. Celkové oprávnené výdavky budú zrejmé až z konkrétnych faktúr za inštaláciu.

Sheet ciselniky
A1: NAZOV_OKRES | B1: ID_OBEC | C1: NAZOV_OBEC | D1: ID_OKRES | E1: NAZOV_OKRES | F1: ORKO | H1: NAZOV_OKRES | J1: Číslo riadka prvého výskytu NAZOV_OKRESU | K1: =MATCH('hodnota poukazky'!C5,ciselniky!A2:A2928,0)+1 -> #N/A | M1: Zariadenie | N1: Základná sadzba | O1: Zvýhodnená sadzba (15%) | P1: Zvýhodnená sadzba (80%) | Q1: Max.podporovaný výkon | R1: Výkonový limit (kW) | S1: =J17 -> Maximálny podporiteľný výkon (kW):
A2: Banská Bystrica | B2: 508454 | C2: Badín | D2: 601 | E2: Banská Bystrica | F2: 1 | H2: Banská Bystrica | J2: Číslo riadka posledného výskytu NAZOV_OKRESU | K2: =DCOUNTA(A1:A2928,1,J5:J6)+K1-1 -> #N/A | M2: fotovoltický panel | N2: 500 | O2: 575 | P2: 900 | Q2: 2 | R2: 2 | S2: =IF('hodnota poukazky'!C$10="",0,MIN(Q2,'hodnota poukazky'!$C$10)) -> 0
A3: Banská Bystrica | B3: 508471 | C3: Baláže | D3: 601 | E3: Banská Bystrica | F3: 0 | H3: Banská Štiavnica | J3: Zdroj pre overenie údajov | K3: =CONCATENATE(ADDRESS(K1,3,1,1,"ciselniky"),":",RIGHT(ADDRESS(K2,3,1,1,""),LEN(ADDRESS(K2,3,1,1,""))-1)) -> #N/A | M3: veterná turbína | N3: 500 | O3: 575 | P3: 0 | Q3: 2 | R3: 2 | S3: =IF('hodnota poukazky'!C$10="",0,MIN(Q3,'hodnota poukazky'!$C$10)) -> 0
A4: Banská Bystrica | B4: 508438 | C4: Banská Bystrica | D4: 601 | E4: Banská Bystrica | F4: 1 | H4: Bánovce nad Bebravou | M4: slnečný kolektor | N4: 500 | O4: 575 | P4: 900 | Q4: 4 | R4: 4 | S4: =IF('hodnota poukazky'!C$10="",0,MIN(Q4,'hodnota poukazky'!$C$10)) -> 0
A5: Banská Bystrica | B5: 508675 | C5: Brusno | D5: 601 | E5: Banská Bystrica | F5: 0 | H5: Bardejov | J5: =A1 -> NAZOV_OKRES | M5: kotol na biomasu | N5: 120 | O5: 120 | P5: =N5*1.8 -> 216 | Q5: 15 | R5: 15 | S5: =IF('hodnota poukazky'!C$10="",0,MIN(Q5,'hodnota poukazky'!$C$10)) -> 0
A6: Banská Bystrica | B6: 508519 | C6: Čerín | D6: 601 | E6: Banská Bystrica | F6: 0 | H6: Bratislava I | J6: ='hodnota poukazky'!C5 -> 0 | M6: tepelné čerpadlo | N6: 400 | O6: =N6*1.15 -> 460 | P6: 0 | Q6: 10 | R6: 10 | S6: =IF('hodnota poukazky'!C$10="",0,MIN(Q6,'hodnota poukazky'!$C$10)) -> 0
A7: Banská Bystrica | B7: 508543 | C7: Dolná Mičiná | D7: 601 | E7: Banská Bystrica | F7: 1 | H7: Bratislava II
A8: Banská Bystrica | B8: 508551 | C8: Dolný Harmanec | D8: 601 | E8: Banská Bystrica | F8: 0 | H8: Bratislava III
A9: Banská Bystrica | B9: 508560 | C9: Donovaly | D9: 601 | E9: Banská Bystrica | F9: 0 | H9: Bratislava IV | J9: áno
A10: Banská Bystrica | B10: 508586 | C10: Dúbravica | D10: 601 | E10: Banská Bystrica | F10: 0 | H10: Bratislava V | J10: nie
A11: Banská Bystrica | B11: 508594 | C11: Harmanec | D11: 601 | E11: Banská Bystrica | F11: 0 | H11: Brezno
A12: Banská Bystrica | B12: 508616 | C12: Hiadeľ | D12: 601 | E12: Banská Bystrica | F12: 0 | H12: Bytča | J12: ='hodnota poukazky'!B13 -> Domácnosť prestane využívať tuhé palivá: | K12: =IF('hodnota poukazky'!C13=ciselniky!J9,1,0) -> 0
A13: Banská Bystrica | B13: 508632 | C13: Horná Mičiná | D13: 601 | E13: Banská Bystrica | F13: 1 | H13: Čadca | J13: ='hodnota poukazky'!B15 -> Inštalácia v oblasti ORKO: | K13: =IF(LEN('hodnota poukazky'!C6)>1,VLOOKUP('hodnota poukazky'!C6,INDIRECT(K14),4,FALSE),0) -> 0
A14: Banská Bystrica | B14: 508641 | C14: Horné Pršany | D14: 601 | E14: Banská Bystrica | F14: 1 | H14: Detva | J14: Zdroj pre vyhľadanie ORKO | K14: =CONCATENATE(ADDRESS(K1,3,1,1,"ciselniky"),":",RIGHT(ADDRESS(K2,6,1,1,""),LEN(ADDRESS(K2,3,1,1,""))-1)) -> #N/A
A15: Banská Bystrica | B15: 508659 | C15: Hrochoť | D15: 601 | E15: Banská Bystrica | F15: 0 | H15: Dolný Kubín | J15: ='hodnota poukazky'!B14 -> Nízkopríjmová domácnosť (len pre slnečné kolektory, fotovoltické panely a kotly na biomasu): | K15: =IF('hodnota poukazky'!C14=ciselniky!J9,1,0) -> 0
A16: Banská Bystrica | B16: 580236 | C16: Hronsek | D16: 601 | E16: Banská Bystrica | F16: 0 | H16: Dunajská Streda | J16: ='hodnota poukazky'!B18 -> Sadzba (EUR/kW): | K16: =VLOOKUP('hodnota poukazky'!C9,M2:P6,2+IF(AND(K15=1,VLOOKUP('hodnota poukazky'!C9,M2:P6,4,FALSE)>0),2,IF(K12=1,1,IF(K13=1,1,0))),FALSE) -> #N/A
A17: Banská Bystrica | B17: 508713 | C17: Kordíky | D17: 601 | E17: Banská Bystrica | F17: 0 | H17: Galanta | J17: ='hodnota poukazky'!B19 -> Maximálny podporiteľný výkon (kW): | K17: =VLOOKUP('hodnota poukazky'!C9,M2:S6,7,FALSE) -> #N/A
A18: Banská Bystrica | B18: 508721 | C18: Králiky | D18: 601 | E18: Banská Bystrica | F18: 0 | H18: Gelnica | J18: ='hodnota poukazky'!B20 -> Maximálna hodnota príspevku (EUR): | K18: =FLOOR(K16*K17,1) -> #N/A
A19: Banská Bystrica | B19: 557277 | C19: Kynceľová | D19: 601 | E19: Banská Bystrica | F19: 1 | H19: Hlohovec
A20: Banská Bystrica | B20: 508748 | C20: Ľubietová | D20: 601 | E20: Banská Bystrica | F20: 0 | H20: Humenné
A21: Banská Bystrica | B21: 508756 | C21: Lučatín | D21: 601 | E21: Banská Bystrica | F21: 0 | H21: Ilava | J21: heslo | K21: NewZelDom26
A22: Banská Bystrica | B22: 580244 | C22: Malachov | D22: 601 | E22: Banská Bystrica | F22: 1 | H22: Kežmarok
A23: Banská Bystrica | B23: 508764 | C23: Medzibrod | D23: 601 | E23: Banská Bystrica | F23: 0 | H23: Komárno
A24: Banská Bystrica | B24: 508799 | C24: Moštenica | D24: 601 | E24: Banská Bystrica | F24: 0 | H24: Košice - okolie
A25: Banská Bystrica | B25: 508802 | C25: Motyčky | D25: 601 | E25: Banská Bystrica | F25: 0 | H25: Košice I
A26: Banská Bystrica | B26: 508781 | C26: Môlča | D26: 601 | E26: Banská Bystrica | F26: 1 | H26: Košice II
A27: Banská Bystrica | B27: 557285 | C27: Nemce | D27: 601 | E27: Banská Bystrica | F27: 0 | H27: Košice III
A28: Banská Bystrica | B28: 508837 | C28: Oravce | D28: 601 | E28: Banská Bystrica | F28: 0 | H28: Košice IV
A29: Banská Bystrica | B29: 508861 | C29: Podkonice | D29: 601 | E29: Banská Bystrica | F29: 1 | H29: Krupina
A30: Banská Bystrica | B30: 508896 | C30: Pohronský Bukovec | D30: 601 | E30: Banská Bystrica | F30: 0 | H30: Kysucké Nové Mesto
A31: Banská Bystrica | B31: 508918 | C31: Poniky | D31: 601 | E31: Banská Bystrica | F31: 1 | H31: Levice
A32: Banská Bystrica | B32: 508926 | C32: Povrazník | D32: 601 | E32: Banská Bystrica | F32: 0 | H32: Levoča
A33: Banská Bystrica | B33: 508942 | C33: Priechod | D33: 601 | E33: Banská Bystrica | F33: 0 | H33: Liptovský Mikuláš
... A80: Bardejov | B80: 519251 | C80: Hrabovec | D80: 701 | E80: Bardejov | F80: 0 | H80: Žilina
A81: Bardejov | B81: 519260 | C81: Hrabské | D81: 701 | E81: Bardejov | F81: 0
A82: Bardejov | B82: 519278 | C82: Hutka | D82: 701 | E82: Bardejov | F82: 0
A83: Bardejov | B83: 519286 | C83: Chmeľová | D83: 701 | E83: Bardejov | F83: 0
A84: Bardejov | B84: 519294 | C84: Janovce | D84: 701 | E84: Bardejov | F84: 0
A85: Bardejov | B85: 519308 | C85: Jedlinka | D85: 701 | E85: Bardejov | F85: 0
A86: Bardejov | B86: 519324 | C86: Kľušov | D86: 701 | E86: Bardejov | F86: 0
...
